BEGIN:VCALENDAR
VERSION:2.0
PRODID:-//Samariter - ECPv6.15.14//NONSGML v1.0//EN
CALSCALE:GREGORIAN
METHOD:PUBLISH
X-ORIGINAL-URL:http://www.samariter-kerns.ch
X-WR-CALDESC:Veranstaltungen für Samariter
REFRESH-INTERVAL;VALUE=DURATION:PT1H
X-Robots-Tag:noindex
X-PUBLISHED-TTL:PT1H
BEGIN:VTIMEZONE
TZID:Europe/Zurich
BEGIN:DAYLIGHT
TZOFFSETFROM:+0100
TZOFFSETTO:+0200
TZNAME:CEST
DTSTART:20230326T010000
END:DAYLIGHT
BEGIN:STANDARD
TZOFFSETFROM:+0200
TZOFFSETTO:+0100
TZNAME:CET
DTSTART:20231029T010000
END:STANDARD
BEGIN:DAYLIGHT
TZOFFSETFROM:+0100
TZOFFSETTO:+0200
TZNAME:CEST
DTSTART:20240331T010000
END:DAYLIGHT
BEGIN:STANDARD
TZOFFSETFROM:+0200
TZOFFSETTO:+0100
TZNAME:CET
DTSTART:20241027T010000
END:STANDARD
BEGIN:DAYLIGHT
TZOFFSETFROM:+0100
TZOFFSETTO:+0200
TZNAME:CEST
DTSTART:20250330T010000
END:DAYLIGHT
BEGIN:STANDARD
TZOFFSETFROM:+0200
TZOFFSETTO:+0100
TZNAME:CET
DTSTART:20251026T010000
END:STANDARD
END:VTIMEZONE
BEGIN:VEVENT
DTSTART;TZID=Europe/Zurich:20240415T193000
DTEND;TZID=Europe/Zurich:20240415T213000
DTSTAMP:20260423T151816
CREATED:20231114T080556Z
LAST-MODIFIED:20240212T165635Z
UID:2543-1713209400-1713216600@www.samariter-kerns.ch
SUMMARY:SMEDRIX Thema D
DESCRIPTION:MEDRIX Thema D \nHypo- / Hyperglykämie \nKrampfanfall \nBlutzucker messen
URL:http://www.samariter-kerns.ch/event/smedrix-thema-d/
LOCATION:Alpnach\, Alpnach\, Schweiz
CATEGORIES:Monatsübung
ORGANIZER;CN="Samariter Kerns":MAILTO:praesident@samariter-kerns.ch
END:VEVENT
END:VCALENDAR